BEGIN:VCALENDAR
VERSION:2.0
PRODID:-//hacksw/handcal//NONSGML v1.0//EN
BEGIN:VEVENT
SUMMARY:La ronde des Alpes Mancelles
UID:fafb3f64-f138-4247-8844-141eead4a79c
DTSTART:20260620T220000Z
DTEND:20260621T220000Z
LOCATION:Localisation   
CATEGORIES:Sportif
STATUS:
DESCRIPTION:<p>LE RETRAIT DES DOSSARDS SE FERA SUR PLACE SUR L'AIRE 
 DE DEPART A PARTIR DE 7H00</p>
 
 <p> </p>
 
 <h1><a
 href="https://www.klikego.com/inscription/la-ronde-des-alpes-mancelles-2026/running-course-a-pied/1508793886813-15"
 target="_blank">Inscription en suivant ce lien 🔗 </a></h1>
URL;VALUE=URI:https://www.lemansathletisme72.com/evenements/2026/06/21/la-ronde-des-alpes-mancelles-2432553
END:VEVENT
END:VCALENDAR
