BEGIN:VCALENDAR
VERSION:2.0
PRODID:-//hacksw/handcal//NONSGML v1.0//EN
BEGIN:VEVENT
SUMMARY:Trail du Belinois
UID:cf7b1757-f138-4855-aa16-ece2c45f067f
DTSTART:20260702T220000Z
DTEND:20260703T220000Z
LOCATION:Localisation   
CATEGORIES:Sportif
STATUS:
DESCRIPTION:<p> </p>
 
 <p>La 2eme edition du TRAIL DU BELINOIS est
 lancee et elle aura lieu a SAINT OUEN EN BELIN (72)</p>
 
 <p>Vous
 etiez 300 participants l'an dernier a profiter de nos parcours et
 cette annee nous avons decide de remonter la jauge a 500
 dossards.</p>
 
 <p>Le format et les parcours restent
 inchanges</p>
 
 <p>ADO / FAMILLE - 3 KM - Denivele
 10m+</p>
 
 <p>DECOUVERTE - 8 KM - Denivele 40m+</p>
 
 <p>CONFIRME - 14
 KM - Denivele 130m</p>
 
 <p>EXPERT - 22 KM - Denivele
 200m+</p>
 
 <p> </p>
 
 <h1><a
 href="https://www.helloasso.com/associations/velo-club-belinois/evenements/trail-du-belinois"
 target="_blank">Inscription en suivant ce lien 🔗 ici</a></h1>
URL;VALUE=URI:https://www.lemansathletisme72.com/evenements/2026/07/03/trail-du-belinois-2432560
END:VEVENT
END:VCALENDAR
